BEGIN:VCALENDAR
VERSION:2.0
PRODID:-//ChamberMaster//Event Calendar 2.0//EN
METHOD:PUBLISH
X-PUBLISHED-TTL:P3D
REFRESH-INTERVAL:P3D
CALSCALE:GREGORIAN
BEGIN:VEVENT
DTSTART:20260604T153000Z
DTEND:20260604T163000Z
X-MICROSOFT-CDO-ALLDAYEVENT:FALSE
SUMMARY:Ribbon Cutting: Direct Auto Insurance
DESCRIPTION:Join us to welcome Direct Auto Insurance to the #FunChamber!!\n\nA light lunch will be provided!
X-ALT-DESC;FMTTYPE=text/html:<span style="font-family:verdana\;"><span style="font-size:16px\;">Join us to welcome&nbsp\;<strong>Direct Auto Insurance&nbsp\;</strong>to the #FunChamber!!<br />\nA light lunch will be provided!</span></span>
LOCATION:Irmo Chamber 1235 Columbia Avenue Irmo\, SC
UID:e.1333.6527
SEQUENCE:3
DTSTAMP:20260422T171253Z
URL:https://business.greaterirmochamber.com/events/details/ribbon-cutting-direct-auto-insurance-6527
END:VEVENT

END:VCALENDAR
