BEGIN:VCALENDAR
VERSION:2.0
PRODID:-//ChamberMaster//Event Calendar 2.0//EN
METHOD:PUBLISH
X-PUBLISHED-TTL:P3D
REFRESH-INTERVAL:P3D
CALSCALE:GREGORIAN
BEGIN:VEVENT
DTSTART:20190131T163000Z
DTEND:20190131T173000Z
X-MICROSOFT-CDO-ALLDAYEVENT:FALSE
SUMMARY:Ribbon Cutting for AAA Carolinas
DESCRIPTION:Join us to wecome AAA Carolinas to our Chamber!!!\n\nRibbon cutting @ 11:45 a.m.\n\nA light lunch will be provided.
X-ALT-DESC;FMTTYPE=text/html:Join us to wecome AAA Carolinas to our Chamber!!!<br />\nRibbon cutting @ 11:45 a.m.<br />\nA light lunch will be provided.
LOCATION:929 Lake Murray Boulevard Irmo\, SC 29063
UID:e.1333.3295
SEQUENCE:3
DTSTAMP:20260423T071750Z
URL:https://business.greaterirmochamber.com/events/details/ribbon-cutting-for-aaa-carolinas-3295
END:VEVENT

END:VCALENDAR
