BEGIN:VCALENDAR
VERSION:2.0
PRODID:-//ChamberMaster//Event Calendar 2.0//EN
METHOD:PUBLISH
X-PUBLISHED-TTL:P3D
REFRESH-INTERVAL:P3D
CALSCALE:GREGORIAN
BEGIN:VEVENT
DTSTART:20181130T163000Z
DTEND:20181130T173000Z
X-MICROSOFT-CDO-ALLDAYEVENT:FALSE
SUMMARY:Ribbon Cutting for Bolder Engraving
DESCRIPTION:Join us to welcome Boulder Engraving to our Chamber!!!!\n\nRibbon Cutting @ 11:45 a.m.\n\nA light lunch will be provided!!!
X-ALT-DESC;FMTTYPE=text/html:Join us to welcome Boulder Engraving to our Chamber!!!!<br />\nRibbon Cutting @ 11:45 a.m.<br />\nA light lunch will be provided!!!
LOCATION:7949 Broad River Road\, Suite 8 Irmo\, SC
UID:e.1333.3286
SEQUENCE:3
DTSTAMP:20260423T114913Z
URL:https://business.greaterirmochamber.com/events/details/ribbon-cutting-for-bolder-engraving-3286
END:VEVENT

END:VCALENDAR
