BEGIN:VCALENDAR
VERSION:2.0
PRODID:-//ChamberMaster//Event Calendar 2.0//EN
METHOD:PUBLISH
X-PUBLISHED-TTL:P3D
REFRESH-INTERVAL:P3D
CALSCALE:GREGORIAN
BEGIN:VEVENT
DTSTART:20190605T153000Z
DTEND:20190605T163000Z
X-MICROSOFT-CDO-ALLDAYEVENT:FALSE
SUMMARY:Ribbon Cutting for Broad River Dentistry
DESCRIPTION:Please join us to welcome Broad River Dentistry to our Chamber!!\n\nRibbon Cutting at 11:45 a.m.\n\nA light lunch will be provided!
X-ALT-DESC;FMTTYPE=text/html:Please join us to welcome Broad River Dentistry to our Chamber!!<br />\nRibbon Cutting at 11:45 a.m.<br />\nA light lunch will be provided!
LOCATION:7210 Broad River Road Suite N Irmo\, SC 29063
UID:e.1333.3322
SEQUENCE:3
DTSTAMP:20260422T231239Z
URL:https://business.greaterirmochamber.com/events/details/ribbon-cutting-for-broad-river-dentistry-3322
END:VEVENT

END:VCALENDAR
