BEGIN:VCALENDAR
VERSION:2.0
PRODID:-//ChamberMaster//Event Calendar 2.0//EN
METHOD:PUBLISH
X-PUBLISHED-TTL:P3D
REFRESH-INTERVAL:P3D
CALSCALE:GREGORIAN
BEGIN:VEVENT
DTSTART:20181128T163000Z
DTEND:20181128T173000Z
X-MICROSOFT-CDO-ALLDAYEVENT:FALSE
SUMMARY:Ribbon Cutting for Experimac
DESCRIPTION:Join us to welcome Experimac to our Chamber!\n\nRibbon Cutting @ 11:45 a.m.\n\nA light lunch will be provided!
X-ALT-DESC;FMTTYPE=text/html:Join us to welcome Experimac to our Chamber!<br />\nRibbon Cutting @ 11:45 a.m.<br />\nA light lunch will be provided!
LOCATION:1260 Bower Parkway\, Suite A6 Columbia\, SC 29212
UID:e.1333.3282
SEQUENCE:3
DTSTAMP:20260423T103859Z
URL:https://business.greaterirmochamber.com/events/details/ribbon-cutting-for-experimac-3282
END:VEVENT

END:VCALENDAR
