BEGIN:VCALENDAR
VERSION:2.0
PRODID:-//ChamberMaster//Event Calendar 2.0//EN
METHOD:PUBLISH
X-PUBLISHED-TTL:P3D
REFRESH-INTERVAL:P3D
CALSCALE:GREGORIAN
BEGIN:VEVENT
DTSTART:20190514T153000Z
DTEND:20190514T163000Z
X-MICROSOFT-CDO-ALLDAYEVENT:FALSE
SUMMARY:Ribbon Cutting for Finishing Touch Team
DESCRIPTION:Join us to welcome Finishing Touch Team to our Chamber!\n\nA light lunch will be provided!\n\nRibbon Cutting at 11:45 a.m.
X-ALT-DESC;FMTTYPE=text/html:Join us to welcome Finishing Touch Team to our Chamber!<br />\nA light lunch will be provided!<br />\nRibbon Cutting at 11:45 a.m.<br />\n&nbsp\;
LOCATION:7620 Woodrow Street\, Suite C Irmo\, SC 29063
UID:e.1333.3315
SEQUENCE:3
DTSTAMP:20260423T004424Z
URL:https://business.greaterirmochamber.com/events/details/ribbon-cutting-for-finishing-touch-team-3315
END:VEVENT

END:VCALENDAR
