BEGIN:VCALENDAR
VERSION:2.0
PRODID:-//ChamberMaster//Event Calendar 2.0//EN
METHOD:PUBLISH
X-PUBLISHED-TTL:P3D
REFRESH-INTERVAL:P3D
CALSCALE:GREGORIAN
BEGIN:VEVENT
DTSTART:20190924T153000Z
DTEND:20190924T163000Z
X-MICROSOFT-CDO-ALLDAYEVENT:FALSE
SUMMARY:Ribbon Cutting for Gentlemen Hair Cuts
DESCRIPTION:Join us to welcome Gentlemen Hair Cuts to our Chamber!\n\nA light lunch will be provided!\n\nRibbon cutting @ 11:45 a.m.
X-ALT-DESC;FMTTYPE=text/html:Join us to welcome Gentlemen Hair Cuts to our Chamber!<br />\nA light lunch will be provided!<br />\nRibbon cutting @ 11:45 a.m.
LOCATION:378 Columbiana Drive\, Suite 300 Columbia\, SC 29212
UID:e.1333.3358
SEQUENCE:3
DTSTAMP:20260422T190412Z
URL:https://business.greaterirmochamber.com/events/details/ribbon-cutting-for-gentlemen-hair-cuts-3358
END:VEVENT

END:VCALENDAR
