BEGIN:VCALENDAR
VERSION:2.0
PRODID:-//ChamberMaster//Event Calendar 2.0//EN
METHOD:PUBLISH
X-PUBLISHED-TTL:P3D
REFRESH-INTERVAL:P3D
CALSCALE:GREGORIAN
BEGIN:VEVENT
DTSTART:20191114T213000Z
DTEND:20191114T223000Z
X-MICROSOFT-CDO-ALLDAYEVENT:FALSE
SUMMARY:Ribbon Cutting for Green Charter School of the Midlands
DESCRIPTION:Join us to welcome Green Charter School of the Midlands to our Chamber!!!\n\nRibbon Cutting at 4:45 p.m.
X-ALT-DESC;FMTTYPE=text/html:Join us to welcome Green Charter School of the Midlands to our Chamber!!!<br />\nRibbon Cutting at 4:45 p.m.
LOCATION:7820 Broad River Road Irmo\, SC 29063
UID:e.1333.3390
SEQUENCE:3
DTSTAMP:20260422T161403Z
URL:https://business.greaterirmochamber.com/events/details/ribbon-cutting-for-green-charter-school-of-the-midlands-3390
END:VEVENT

END:VCALENDAR
