BEGIN:VCALENDAR
VERSION:2.0
PRODID:-//ChamberMaster//Event Calendar 2.0//EN
METHOD:PUBLISH
X-PUBLISHED-TTL:P3D
REFRESH-INTERVAL:P3D
CALSCALE:GREGORIAN
BEGIN:VEVENT
DTSTART:20190820T203000Z
DTEND:20190820T230000Z
X-MICROSOFT-CDO-ALLDAYEVENT:FALSE
SUMMARY:Ribbon Cutting for Irmo Wellness Center
DESCRIPTION:Join us for Irmo Wellness Center's Grand Opening and Ribbon Cutting!!!\n\nRibbon cutting @ 4:45 p.m.\n\nCatering by Anna Cline!
X-ALT-DESC;FMTTYPE=text/html:Join us for Irmo Wellness Center&#39\;s Grand Opening and Ribbon Cutting!!!<br />\nRibbon cutting @ 4:45 p.m.<br />\nCatering by Anna Cline!
LOCATION:7182 Woodrow Street Irmo\, SC 29063
UID:e.1333.3343
SEQUENCE:3
DTSTAMP:20260422T201637Z
URL:https://business.greaterirmochamber.com/events/details/ribbon-cutting-for-irmo-wellness-center-3343
END:VEVENT

END:VCALENDAR
