BEGIN:VCALENDAR
VERSION:2.0
PRODID:-//ChamberMaster//Event Calendar 2.0//EN
METHOD:PUBLISH
X-PUBLISHED-TTL:P3D
REFRESH-INTERVAL:P3D
CALSCALE:GREGORIAN
BEGIN:VEVENT
DTSTART:20191107T163000Z
DTEND:20191107T173000Z
X-MICROSOFT-CDO-ALLDAYEVENT:FALSE
SUMMARY:Ribbon Cutting for Joni's Boutique & Gifts (Merle Norman Cosmetics)
DESCRIPTION:Join us to welcome Joni's Boutique & Gifts (Merle Norman Cosmetics) to our Chamber!\n\nRibbon cutting at 11:45 a.m.\n\nA light lunch will be provided!
X-ALT-DESC;FMTTYPE=text/html:Join us to welcome Joni&#39\;s Boutique &amp\; Gifts (Merle Norman Cosmetics) to our Chamber!<br />\nRibbon cutting at 11:45 a.m.<br />\nA light lunch will be provided!
LOCATION:7001 St. Andrews Road\, Suite A-8 Columbia\, SC 29212 (Murraywood Center)
UID:e.1333.3382
SEQUENCE:3
DTSTAMP:20260422T161501Z
URL:https://business.greaterirmochamber.com/events/details/ribbon-cutting-for-joni-s-boutique-gifts-merle-norman-cosmetics-3382
END:VEVENT

END:VCALENDAR
