BEGIN:VCALENDAR
VERSION:2.0
PRODID:-//ChamberMaster//Event Calendar 2.0//EN
METHOD:PUBLISH
X-PUBLISHED-TTL:P3D
REFRESH-INTERVAL:P3D
CALSCALE:GREGORIAN
BEGIN:VEVENT
DTSTART:20190813T153000Z
DTEND:20190813T163000Z
X-MICROSOFT-CDO-ALLDAYEVENT:FALSE
SUMMARY:Ribbon Cutting for Mentor Midlands
DESCRIPTION:Join us to welcome Mentor Midlands to our Chamber!!!!\n\nRibbon Cutting @ 11:45 a.m.\n\nA light lunch will be provided!
X-ALT-DESC;FMTTYPE=text/html:Join us to welcome Mentor Midlands to our Chamber!!!!<br />\nRibbon Cutting @ 11:45 a.m.<br />\nA light lunch will be provided!
LOCATION:Irmo Chamber of Commerce 1235 Columbia Avenue Irmo\, SC 29063
UID:e.1333.3341
SEQUENCE:3
DTSTAMP:20260422T213901Z
URL:https://business.greaterirmochamber.com/events/details/ribbon-cutting-for-mentor-midlands-3341
END:VEVENT

END:VCALENDAR
