BEGIN:VCALENDAR
VERSION:2.0
PRODID:-//ChamberMaster//Event Calendar 2.0//EN
METHOD:PUBLISH
X-PUBLISHED-TTL:P3D
REFRESH-INTERVAL:P3D
CALSCALE:GREGORIAN
BEGIN:VEVENT
DTSTART:20190729T153000Z
DTEND:20190729T163000Z
X-MICROSOFT-CDO-ALLDAYEVENT:FALSE
SUMMARY:Ribbon Cutting for Midlands Family Chiropractic
DESCRIPTION:Join us to welcome Midlands Family Chiropractic to the Irmo Chamber!\n\nRibbon cutting at 11:45 a.m.\n\nA light lunch will be provided!
X-ALT-DESC;FMTTYPE=text/html:Join us to welcome Midlands Family Chiropractic to the Irmo Chamber!<br />\nRibbon cutting at 11:45 a.m.<br />\nA light lunch will be provided!
LOCATION:6030 St. Andrews Road\, Suite M Columbia\, SC 29212
UID:e.1333.3349
SEQUENCE:3
DTSTAMP:20260422T214117Z
URL:https://business.greaterirmochamber.com/events/details/ribbon-cutting-for-midlands-family-chiropractic-3349
END:VEVENT

END:VCALENDAR
