BEGIN:VCALENDAR
VERSION:2.0
PRODID:-//ChamberMaster//Event Calendar 2.0//EN
METHOD:PUBLISH
X-PUBLISHED-TTL:P3D
REFRESH-INTERVAL:P3D
CALSCALE:GREGORIAN
BEGIN:VEVENT
DTSTART:20190110T173000Z
DTEND:20190110T183000Z
X-MICROSOFT-CDO-ALLDAYEVENT:FALSE
SUMMARY:Ribbon Cutting for Nothing Bundt Cakes
DESCRIPTION:Join us to welcome Nothing Bundt Cakes to our Chamber!\n\nRibbon Cutting @ 12:45 p.m.\n\nCome sample their delicious bundt cakes!
X-ALT-DESC;FMTTYPE=text/html:Join us to welcome Nothing Bundt Cakes to our Chamber!<br />\nRibbon Cutting @ 12:45 p.m.<br />\nCome sample their delicious bundt cakes!
LOCATION:131 Harbison Blvd. Columbia\, SC 29212
UID:e.1333.3281
SEQUENCE:3
DTSTAMP:20260423T071404Z
URL:https://business.greaterirmochamber.com/events/details/ribbon-cutting-for-nothing-bundt-cakes-3281
END:VEVENT

END:VCALENDAR
