BEGIN:VCALENDAR
VERSION:2.0
PRODID:-//ChamberMaster//Event Calendar 2.0//EN
METHOD:PUBLISH
X-PUBLISHED-TTL:P3D
REFRESH-INTERVAL:P3D
CALSCALE:GREGORIAN
BEGIN:VEVENT
DTSTART:20190124T163000Z
DTEND:20190124T173000Z
X-MICROSOFT-CDO-ALLDAYEVENT:FALSE
SUMMARY:Ribbon Cutting for Perfectly Posh
DESCRIPTION:Join us to welcome Toni Hunihan an Independent Consultant with Perfectly Posh to our Chamber!!!!\n\nA light lunch will be provided!\n\nRibbon cutting at 11:45 a.m.
X-ALT-DESC;FMTTYPE=text/html:Join us to welcome Toni Hunihan an Independent Consultant with Perfectly Posh to our Chamber!!!!<br />\nA light lunch will be provided!<br />\nRibbon cutting at 11:45 a.m.
LOCATION:Irmo Chamber 1235 Columbia Avenue Irmo\, SC 29063
UID:e.1333.3290
SEQUENCE:3
DTSTAMP:20260423T091258Z
URL:https://business.greaterirmochamber.com/events/details/ribbon-cutting-for-perfectly-posh-3290
END:VEVENT

END:VCALENDAR
