BEGIN:VCALENDAR
VERSION:2.0
PRODID:-//ChamberMaster//Event Calendar 2.0//EN
METHOD:PUBLISH
X-PUBLISHED-TTL:P3D
REFRESH-INTERVAL:P3D
CALSCALE:GREGORIAN
BEGIN:VEVENT
DTSTART:20190521T153000Z
DTEND:20190521T163000Z
X-MICROSOFT-CDO-ALLDAYEVENT:FALSE
SUMMARY:Ribbon Cutting for R3 Fitness
DESCRIPTION:Join us to welcome R3 Fitness to the #FunChamber!\n\nA light lunch will be provided and we will cut the ribbon at 11:45am.
X-ALT-DESC;FMTTYPE=text/html:Join us to welcome R3 Fitness to the #FunChamber!<br />\nA light lunch will be provided and we will cut the ribbon at 11:45am.
LOCATION:Greater Irmo Chamber 1235 Columbia Avenue Irmo\, SC 29063
UID:e.1333.3324
SEQUENCE:3
DTSTAMP:20260423T005255Z
URL:https://business.greaterirmochamber.com/events/details/ribbon-cutting-for-r3-fitness-3324
END:VEVENT

END:VCALENDAR
