BEGIN:VCALENDAR
VERSION:2.0
PRODID:-//ChamberMaster//Event Calendar 2.0//EN
METHOD:PUBLISH
X-PUBLISHED-TTL:P3D
REFRESH-INTERVAL:P3D
CALSCALE:GREGORIAN
BEGIN:VEVENT
DTSTART:20190709T153000Z
DTEND:20190709T163000Z
X-MICROSOFT-CDO-ALLDAYEVENT:FALSE
SUMMARY:Ribbon Cutting for Starbucks - Harbison
DESCRIPTION:Join us to welcome Starbucks Coffee Company - Harbison to our Chamber!!!\n\nRibbon cutting @ 11:45 a.m.\n\nA light lunch will be provided!
X-ALT-DESC;FMTTYPE=text/html:Join us to welcome Starbucks Coffee Company - Harbison to our Chamber!!!<br />\nRibbon cutting @ 11:45 a.m.<br />\nA light lunch will be provided!
LOCATION:276 Harbison Boulevard Columbia\, SC 29212
UID:e.1333.3344
SEQUENCE:3
DTSTAMP:20260422T231213Z
URL:https://business.greaterirmochamber.com/events/details/ribbon-cutting-for-starbucks-harbison-3344
END:VEVENT

END:VCALENDAR
