BEGIN:VCALENDAR
VERSION:2.0
PRODID:-//ChamberMaster//Event Calendar 2.0//EN
METHOD:PUBLISH
X-PUBLISHED-TTL:P3D
REFRESH-INTERVAL:P3D
CALSCALE:GREGORIAN
BEGIN:VEVENT
DTSTART:20190416T153000Z
DTEND:20190416T163000Z
X-MICROSOFT-CDO-ALLDAYEVENT:FALSE
SUMMARY:Ribbon Cutting for State Farm: Libby Hagins Agency
DESCRIPTION:Join us to welcome State Farm: Libby Hagins Agency to our Chamber!\n\nA light lunch will be provided!\n\nRibbon cutting at 11:45 a.m.
X-ALT-DESC;FMTTYPE=text/html:Join us to welcome State Farm: Libby Hagins Agency to our Chamber!<br />\nA light lunch will be provided!<br />\nRibbon cutting at 11:45 a.m.
LOCATION:735 Saturn Parkway\, Suite 400 Columbia\, SC 29212
UID:e.1333.3311
SEQUENCE:3
DTSTAMP:20260423T022531Z
URL:https://business.greaterirmochamber.com/events/details/ribbon-cutting-for-state-farm-libby-hagins-agency-3311
END:VEVENT

END:VCALENDAR
