BEGIN:VCALENDAR
VERSION:2.0
PRODID:-//ChamberMaster//Event Calendar 2.0//EN
METHOD:PUBLISH
X-PUBLISHED-TTL:P3D
REFRESH-INTERVAL:P3D
CALSCALE:GREGORIAN
BEGIN:VEVENT
DTSTART:20191025T153000Z
DTEND:20191025T163000Z
X-MICROSOFT-CDO-ALLDAYEVENT:FALSE
SUMMARY:Ribbon Cutting for Steve Padgett's Honda of Lake Murray
DESCRIPTION:Join us to welcome Steve Padgett's Honda of Lake Murray to our Chamber!\n\nA light lunch will be provided.\n\nRibbon cutting at 11:45 a.m.
X-ALT-DESC;FMTTYPE=text/html:Join us to welcome Steve Padgett&#39\;s Honda of Lake Murray to our Chamber!<br />\nA light lunch will be provided.<br />\nRibbon cutting at 11:45 a.m.
LOCATION:750 Western Lane Irmo\, SC 29063
UID:e.1333.3374
SEQUENCE:3
DTSTAMP:20260422T174138Z
URL:https://business.greaterirmochamber.com/events/details/ribbon-cutting-for-steve-padgett-s-honda-of-lake-murray-3374
END:VEVENT

END:VCALENDAR
