BEGIN:VCALENDAR
VERSION:2.0
PRODID:-//ChamberMaster//Event Calendar 2.0//EN
METHOD:PUBLISH
X-PUBLISHED-TTL:P3D
REFRESH-INTERVAL:P3D
CALSCALE:GREGORIAN
BEGIN:VEVENT
DTSTART:20190510T153000Z
DTEND:20190510T163000Z
X-MICROSOFT-CDO-ALLDAYEVENT:FALSE
SUMMARY:Ribbon Cutting for WellSoul Spa + Salon
DESCRIPTION:Join us to welcome WellSoul Spa + Salon to our Chamber!\n\nA light lunch will be provided!\n\nRibbon cutting at 11:45am.
X-ALT-DESC;FMTTYPE=text/html:Join us to welcome WellSoul Spa + Salon to our Chamber!<br />\nA light lunch will be provided!<br />\nRibbon cutting at 11:45am.
LOCATION:2914 Dreher Shoals Road\, Suite B Columbia\, SC 29212
UID:e.1333.3312
SEQUENCE:3
DTSTAMP:20260423T005211Z
URL:https://business.greaterirmochamber.com/events/details/ribbon-cutting-for-wellsoul-spa-salon-3312
END:VEVENT

END:VCALENDAR
