BEGIN:VCALENDAR
VERSION:2.0
PRODID:-//ChamberMaster//Event Calendar 2.0//EN
METHOD:PUBLISH
X-PUBLISHED-TTL:P3D
REFRESH-INTERVAL:P3D
CALSCALE:GREGORIAN
BEGIN:VEVENT
DTSTART:20200618T200000Z
DTEND:20200618T210000Z
X-MICROSOFT-CDO-ALLDAYEVENT:FALSE
SUMMARY:Ribbon Cutting for Westminster Memory Care-Lex
DESCRIPTION:Join us in welcoming Westminster Memory Care of Lexington to the #FunChamber!  This is our first ribbon cutting since the COVID crisis so we will be practicing social distancing.  This is a senior care facility so masks are encouraged.  We hope you will join us!
X-ALT-DESC;FMTTYPE=text/html:Join us in welcoming Westminster Memory Care of Lexington to the #FunChamber!&nbsp\; This is our first ribbon cutting since the COVID crisis so we will be practicing social distancing.&nbsp\; This is a senior care facility so masks are encouraged.&nbsp\; We hope you will join us!
LOCATION:Westminster Senior Care of Lexington 886 Park Rd. Lexington\, SC 29072
UID:e.1333.3918
SEQUENCE:3
DTSTAMP:20260422T064640Z
URL:https://business.greaterirmochamber.com/events/details/ribbon-cutting-for-westminster-memory-care-lex-3918
END:VEVENT

END:VCALENDAR
