BEGIN:VCALENDAR
VERSION:2.0
PRODID:-//ChamberMaster//Event Calendar 2.0//EN
METHOD:PUBLISH
X-PUBLISHED-TTL:P3D
REFRESH-INTERVAL:P3D
CALSCALE:GREGORIAN
BEGIN:VEVENT
DTSTART:20200317T153000Z
DTEND:20200317T163000Z
X-MICROSOFT-CDO-ALLDAYEVENT:FALSE
SUMMARY:Ribbon Cutting for Willie Jewell's Old School Bar-B-Q
DESCRIPTION:Join us on St. Patrick's Day to welcome Willie Jewell's Old School Bar-B-Q to our Chamber!!!\n\nRibbon cutting at 11:30a.m.!
X-ALT-DESC;FMTTYPE=text/html:Join us on St. Patrick&#39\;s Day to welcome Willie Jewell&#39\;s Old School Bar-B-Q to our Chamber!!!<br />\nRibbon cutting at 11:30a.m.!
LOCATION:105 Saluda Pointe Court Lexington\, SC
UID:e.1333.3683
SEQUENCE:3
DTSTAMP:20260422T113640Z
URL:https://business.greaterirmochamber.com/events/details/ribbon-cutting-for-willie-jewell-s-old-school-bar-b-q-3683
END:VEVENT

END:VCALENDAR
