BEGIN:VCALENDAR
VERSION:2.0
PRODID:-//ChamberMaster//Event Calendar 2.0//EN
METHOD:PUBLISH
X-PUBLISHED-TTL:P3D
REFRESH-INTERVAL:P3D
CALSCALE:GREGORIAN
BEGIN:VEVENT
DTSTART:20251218T163000Z
DTEND:20251218T173000Z
X-MICROSOFT-CDO-ALLDAYEVENT:FALSE
SUMMARY:Ribbon Cutting: Richland Co. Office of Small Business Opportunity
DESCRIPTION:Join us to welcome Richland County Office of Small Business Opportunity to the #FunChamber!!!!\n\nA light lunch will be provided!
X-ALT-DESC;FMTTYPE=text/html:<span style="font-family:verdana\;"><span style="font-size:16px\;">Join us to welcome&nbsp\;<strong>Richland County Office of Small Business Opportunity&nbsp\;</strong>to the #FunChamber!!!!<br />\nA light lunch will be provided!</span></span>
LOCATION:Irmo Chamber 1235 Columbia Avenue Irmo\, SC
UID:e.1333.6245
SEQUENCE:3
DTSTAMP:20260422T161454Z
URL:https://business.greaterirmochamber.com/events/details/ribbon-cutting-richland-co-office-of-small-business-opportunity-6245
END:VEVENT

END:VCALENDAR
