BEGIN:VCALENDAR
VERSION:2.0
PRODID:-//ChamberMaster//Event Calendar 2.0//EN
METHOD:PUBLISH
X-PUBLISHED-TTL:P3D
REFRESH-INTERVAL:P3D
CALSCALE:GREGORIAN
BEGIN:VEVENT
DTSTART:20200312T210000Z
DTEND:20200313T000000Z
X-MICROSOFT-CDO-ALLDAYEVENT:FALSE
SUMMARY:Ribbon Cutting: Stars & Strikes Family Entertainment Center
DESCRIPTION:Join us as we welcome Stars and Strikes Family Entertainment Center to Irmo!  This is a private preview party of the company's newest and largest location!\n\n\n\nRibbon Cutting:  5PM\n\nVIP Reception: 5:30-8:00PM\n\n\n\nEnjoy complimentary chef-inspired menu items\, gourmet desserts\, beer\, wine\, bowling\, laser tag\, games and entertainment.
X-ALT-DESC;FMTTYPE=text/html:Join us as we welcome Stars and Strikes Family Entertainment Center to Irmo! &nbsp\;This is a private preview party of the company&#39\;s newest and largest location!<br />\n<br />\nRibbon Cutting: &nbsp\;5PM<br />\nVIP Reception: 5:30-8:00PM<br />\n<br />\nEnjoy complimentary chef-inspired menu items\, gourmet desserts\, beer\, wine\, bowling\, laser tag\, games and entertainment.<br />\n<br />\n&nbsp\;
LOCATION:700 Columbiana Drive Irmo\, SC 29063
UID:e.1333.3682
SEQUENCE:3
DTSTAMP:20260422T113724Z
URL:https://business.greaterirmochamber.com/events/details/ribbon-cutting-stars-strikes-family-entertainment-center-3682
END:VEVENT

END:VCALENDAR
