BEGIN:VCALENDAR
VERSION:2.0
PRODID:-//ChamberMaster//Event Calendar 2.0//EN
METHOD:PUBLISH
X-PUBLISHED-TTL:P3D
REFRESH-INTERVAL:P3D
CALSCALE:GREGORIAN
BEGIN:VEVENT
DTSTART:20170718T200000Z
DTEND:20170718T230000Z
X-MICROSOFT-CDO-ALLDAYEVENT:FALSE
SUMMARY:River Bluff of Lexington Apartments THANK YOU BBQ
DESCRIPTION:River Bluff of Lexington Apartments\n\n1st Annual 'Thank You For All Your Do' BBQ and open house honoring local Fire\, Police & Hospital Employees\n\nFood\, Drinks Door Prizes & Entertainment\n\nFamily & Friends welcome\n\nRSVP:  River_Bluff@aspensquare.com
X-ALT-DESC;FMTTYPE=text/html:River Bluff of Lexington Apartments<br />\n1st Annual &#39\;Thank You For All Your Do&#39\; BBQ and open house honoring local Fire\, Police &amp\; Hospital Employees<br />\nFood\, Drinks Door Prizes &amp\; Entertainment<br />\nFamily &amp\; Friends welcome<br />\nRSVP: &nbsp\;River_Bluff@aspensquare.com
LOCATION:300 Palmetto Park Boulevard Lexington\, SC 29072
UID:e.1333.2800
SEQUENCE:3
DTSTAMP:20260424T125449Z
URL:https://business.greaterirmochamber.com/events/details/river-bluff-of-lexington-apartments-thank-you-bbq-2800
END:VEVENT

END:VCALENDAR
