BEGIN:VCALENDAR
VERSION:2.0
PRODID:-//ChamberMaster//Event Calendar 2.0//EN
METHOD:PUBLISH
X-PUBLISHED-TTL:P3D
REFRESH-INTERVAL:P3D
CALSCALE:GREGORIAN
BEGIN:VEVENT
DTSTART:20181208T000000Z
DTEND:20181208T030000Z
X-MICROSOFT-CDO-ALLDAYEVENT:FALSE
SUMMARY:River's Edge Retreat 4th Annual Christmas Around the World Dinner
DESCRIPTION:Join River's Edge Retreat for their 4th Annual Fundraising Dinner!\n\nCall Mildred Harris @ (803) 772-2500 or visit website @\n\nwww.riversedgeretreat.org/annual-christmas-dinner
X-ALT-DESC;FMTTYPE=text/html:Join River&#39\;s Edge Retreat for their 4th Annual Fundraising Dinner!<br />\nCall Mildred Harris @ (803) 772-2500 or visit website @<br />\nwww.riversedgeretreat.org/annual-christmas-dinner
LOCATION:Brookland Life Center West Columbia\, SC
UID:e.1333.3287
SEQUENCE:3
DTSTAMP:20260423T091803Z
URL:https://business.greaterirmochamber.com/events/details/river-s-edge-retreat-4th-annual-christmas-around-the-world-dinner-3287
END:VEVENT

END:VCALENDAR
