BEGIN:VCALENDAR
VERSION:2.0
PRODID:-//ChamberMaster//Event Calendar 2.0//EN
METHOD:PUBLISH
X-PUBLISHED-TTL:P3D
REFRESH-INTERVAL:P3D
CALSCALE:GREGORIAN
BEGIN:VEVENT
DTSTART:20190426T160000Z
DTEND:20190426T160000Z
X-MICROSOFT-CDO-ALLDAYEVENT:FALSE
SUMMARY:Robert Gardiner and the South Carolina Jazz Masterworks Ensemble
DESCRIPTION:For the final concert of the Carolina Shout series\, local jazz musician Robert Gardiner leads the South Carolina Jazz Orchestra in a performance that promises to deliver notes that will resound in the listeners' ears with accomplished musicians and jazz standards.
X-ALT-DESC;FMTTYPE=text/html:For the final concert of the Carolina Shout series\, local jazz musician Robert Gardiner leads the South Carolina Jazz Orchestra in a performance that promises to deliver notes that will resound in the listeners&rsquo\; ears with accomplished musicians and jazz standards.
LOCATION:Harbison Theatre at Midlands Technical College 7300 College Street Irmo\, SC 29063
UID:e.1333.3246
SEQUENCE:3
DTSTAMP:20260423T023139Z
URL:https://business.greaterirmochamber.com/events/details/robert-gardiner-and-the-south-carolina-jazz-masterworks-ensemble-3246
END:VEVENT

END:VCALENDAR
