BEGIN:VCALENDAR
VERSION:2.0
PRODID:-//ChamberMaster//Event Calendar 2.0//EN
METHOD:PUBLISH
X-PUBLISHED-TTL:P3D
REFRESH-INTERVAL:P3D
CALSCALE:GREGORIAN
BEGIN:VEVENT
DTSTART;VALUE=DATE:20190423
DTEND;VALUE=DATE:20190424
TRANSP:TRANSPARENT
X-MICROSOFT-CDO-ALLDAYEVENT:TRUE
SUMMARY:Rotary Club of Lake Murray-Irmo Golf Tournament
DESCRIPTION:All proceeds will benefit The Saluda Shoals Park Universally Inclusive Playground Boat Swing (Platform Swing) and Community and International projects of the Rotary Club of Lake Murray-Irmo.
X-ALT-DESC;FMTTYPE=text/html:All proceeds will benefit <strong>The Saluda Shoals Park Universally Inclusive Playground Boat Swing (Platform Swing)</strong> and Community and International projects of the <strong>Rotary Club of Lake Murray-Irmo.</strong>
LOCATION:Mid Carolina Club 3593 Kibler's Bridge Rd. Prosperity\, SC 29127
UID:e.1333.3307
SEQUENCE:3
DTSTAMP:20260423T023507Z
URL:https://business.greaterirmochamber.com/events/details/rotary-club-of-lake-murray-irmo-golf-tournament-3307
END:VEVENT

END:VCALENDAR
