BEGIN:VCALENDAR
VERSION:2.0
PRODID:-//ChamberMaster//Event Calendar 2.0//EN
METHOD:PUBLISH
X-PUBLISHED-TTL:P3D
REFRESH-INTERVAL:P3D
CALSCALE:GREGORIAN
BEGIN:VEVENT
DTSTART:20191215T203000Z
DTEND:20191215T223000Z
X-MICROSOFT-CDO-ALLDAYEVENT:FALSE
SUMMARY:S.C. Philharmonic – Holiday POPS
DESCRIPTION:Do you hear what we hear? Morihiko Nakahara and the S.C. Philharmonic musicians return for another year with TWO performances of this wildly popular show. Bring family and friends to celebrate the holidays with carols and tunes that are sure to get you in the spirit of the season.
X-ALT-DESC;FMTTYPE=text/html:Do you hear what we hear? Morihiko Nakahara and the S.C. Philharmonic musicians return for another year with TWO performances of this wildly popular show. Bring family and friends to celebrate the holidays with carols and tunes that are sure to get you in the spirit of the season.
LOCATION:Harbison Theatre at Midlands Technical College
UID:e.1333.3393
SEQUENCE:3
DTSTAMP:20260422T160818Z
URL:https://business.greaterirmochamber.com/events/details/s-c-philharmonic-holiday-pops-3393
END:VEVENT

END:VCALENDAR
