BEGIN:VCALENDAR
VERSION:2.0
PRODID:-//ChamberMaster//Event Calendar 2.0//EN
METHOD:PUBLISH
X-PUBLISHED-TTL:P3D
REFRESH-INTERVAL:P3D
CALSCALE:GREGORIAN
BEGIN:VEVENT
DTSTART;VALUE=DATE:20180920
DTEND;VALUE=DATE:20181109
TRANSP:TRANSPARENT
X-MICROSOFT-CDO-ALLDAYEVENT:TRUE
SUMMARY:Salmon Allstate Yeti Raffle
DESCRIPTION:Purchase a raffle ticket to win this Yeti Roadie cooler courtesy of Allstate: The Salmon Agency.  Tickets at $5 each or 5/$20.  We will draw the winner at our Annual Auction on November 8th!  This cooler is a $200 value!
X-ALT-DESC;FMTTYPE=text/html:<span style="font-size:14px\;">Purchase a raffle ticket to win this <strong>Yeti Roadie</strong> cooler courtesy of <strong>Allstate: The Salmon Agency</strong>. &nbsp\;<em><strong>Tickets at $5 each or 5/$20</strong></em>. &nbsp\;We will draw the winner at our Annual Auction on November 8th! &nbsp\;This cooler is a $200 value!</span>
LOCATION:
UID:e.1333.3270
SEQUENCE:3
DTSTAMP:20260423T103154Z
URL:https://business.greaterirmochamber.com/events/details/salmon-allstate-yeti-raffle-3270
END:VEVENT

END:VCALENDAR
