BEGIN:VCALENDAR
VERSION:2.0
PRODID:-//ChamberMaster//Event Calendar 2.0//EN
METHOD:PUBLISH
X-PUBLISHED-TTL:P3D
REFRESH-INTERVAL:P3D
CALSCALE:GREGORIAN
BEGIN:VEVENT
DTSTART:20161012T223000Z
DTEND:20161013T000000Z
X-MICROSOFT-CDO-ALLDAYEVENT:FALSE
SUMMARY:Sandals Night
DESCRIPTION:If your looking for an incredible all-inclusive experience in the Caribbean\,join Danny Perez\, our Sandals Representative\, as he guides you through the fabulous Sandals and Beaches resorts throughout the Caribbean. RSVP to 803 678 4000
X-ALT-DESC;FMTTYPE=text/html:If your looking for an incredible all-inclusive experience in the Caribbean\,join Danny Perez\, our Sandals Representative\, as he guides you through the fabulous Sandals and Beaches resorts throughout the Caribbean. RSVP to 803 678 4000 &nbsp\;
LOCATION:AAA Carolinas\, 929 Lake Murray Blvd. RSVP to 803 678 4000
UID:e.1333.2487
SEQUENCE:3
DTSTAMP:20260425T002831Z
URL:https://business.greaterirmochamber.com/events/details/sandals-night-2487
END:VEVENT

END:VCALENDAR
