BEGIN:VCALENDAR
VERSION:2.0
PRODID:-//ChamberMaster//Event Calendar 2.0//EN
METHOD:PUBLISH
X-PUBLISHED-TTL:P3D
REFRESH-INTERVAL:P3D
CALSCALE:GREGORIAN
BEGIN:VEVENT
DTSTART:20170209T153000Z
DTEND:20170209T170000Z
X-MICROSOFT-CDO-ALLDAYEVENT:FALSE
SUMMARY:School District 5 Retirees Luncheon (Business Expo)
DESCRIPTION:You are invited to display your products\, programs\, services at the Annual School District 5 Retirees Luncheon.  There is no cost. You may give retirees info and answer questions about services and programs and you may sell products. RSVP to Mary Kennerly at mkennerly001@sc.rr.com
X-ALT-DESC;FMTTYPE=text/html:You are invited to display your products\, programs\, services at the Annual School District 5 Retirees Luncheon. &nbsp\;There is no cost. You may give retirees info and answer questions&nbsp\;about services and programs and you may sell products. RSVP to Mary Kennerly at mkennerly001@sc.rr.com&nbsp\;
LOCATION:Spring Hill High School 11629 Broad River Road Chapin\, SC 29036
UID:e.1333.2512
SEQUENCE:3
DTSTAMP:20260424T185228Z
URL:https://business.greaterirmochamber.com/events/details/school-district-5-retirees-luncheon-business-expo-2512
END:VEVENT

END:VCALENDAR
