BEGIN:VCALENDAR
VERSION:2.0
PRODID:-//ChamberMaster//Event Calendar 2.0//EN
METHOD:PUBLISH
X-PUBLISHED-TTL:P3D
REFRESH-INTERVAL:P3D
CALSCALE:GREGORIAN
BEGIN:VEVENT
DTSTART:20200517T160000Z
DTEND:20200517T170000Z
X-MICROSOFT-CDO-ALLDAYEVENT:FALSE
SUMMARY:Seminar: Mortgage Forbearance Options
DESCRIPTION:Local Real Estate Agents Edwina Winter and Kelly Lang recently partnered up to create SC Home Resource Center. In their day to day encounters they realized that there wasn't a reliable source for information about what is happening right now with mortgage forbearance options and felt an urgent need to educate consumers. They have partnered with local legal and mortgage experts to give you all of the information you need to help you stay in your home! If you're not making mortgage payments right now or if you're going to be unable to make future payments\, you need to listen in on this seminar!\n\n\n\nHere's a list of our topics:\n\n\n\n\n\n1.What is Forbearance?\n\n2. What is the process?\n\n3. Is forbearance a forgivable debt?\n\n4. What happens at the end of your forbearance period?\n\n5. What happens to your credit/ability to refinance if you chose Forbearance?\n\n6. If you lose your job later this summer/fall\, will forbearance still be an option?\n\n7. What is Foreclosure?\n\n8. Is Forbearance a type of foreclosure?\n\n9. What is a Short Sale?\n\n10. When does a short sale make sense?\n\n11. How do I start the process of a Short Sale?\n\n12. Do all Mortgage companies have the same Forbearance policies?\n\n13. Can you negotiate with your Mortgage company?\n\n14. Should you refinance and pull out equity instead of Forbearance?\n\n15. What are some legal issues that might arise for someone in Forbearance?\n\n16. Who should they reach out to if these arise?\n\n17. What should people be looking out for in regards to predatory lending?\n\n18. What is really going to happen to home equity?\n\n\n\nReal estate agents affiliated with Coldwell Banker Realty are independent contractor sales associates\, not employees.  2020 Coldwell Banker Realty. All Rights Reserved. Coldwell Banker Realty fully supports the principles of the Fair Housing Act and the Equal Opportunity Act. Owned by a subsidiary of NRT LLC. Coldwell Banker and the Coldwell Banker Logo are registered service marks owned by Coldwell Banker Real Estate LLC.
X-ALT-DESC;FMTTYPE=text/html:Local Real Estate Agents Edwina Winter and Kelly Lang recently partnered up to create <strong>SC Home Resource Center.</strong> In their day to day encounters they realized that there wasn&rsquo\;t a reliable source for information about what is happening right now with mortgage forbearance options and felt an urgent need to educate consumers.&nbsp\;They have partnered with local legal and mortgage experts to give you all of the information you need to help you stay in your home! If you&#39\;re not making mortgage payments right now or if you&#39\;re going to be unable to make future payments\, you need to listen in on this seminar!<br />\n<br />\nHere&#39\;s a list of our topics:<br />\n<br />\n<br />\n1.What is Forbearance?<br />\n2. What is the process?<br />\n3. Is forbearance a forgivable debt?<br />\n4. What happens at the end of your forbearance period?<br />\n5. What happens to your credit/ability to refinance if you chose Forbearance?<br />\n6. If you lose your job later this summer/fall\, will forbearance still be an option?<br />\n7. What is Foreclosure?<br />\n8. Is Forbearance a type of foreclosure?<br />\n9. What is a Short Sale?<br />\n10. When does a short sale make sense?<br />\n11. How do I start the process of a Short Sale?<br />\n12. Do all Mortgage companies have the same Forbearance policies?<br />\n13. Can you negotiate with your Mortgage company?<br />\n14. Should you refinance and pull out equity instead of Forbearance?<br />\n15. What are some legal issues that might arise for someone in Forbearance?<br />\n16. Who should they reach out to if these arise?<br />\n17. What should people be looking out for in regards to predatory lending?<br />\n18. What is really going to happen to home equity?<br />\n<br />\nReal estate agents affiliated with Coldwell Banker Realty are independent contractor sales associates\, not employees. &copy\;2020 Coldwell Banker Realty. All Rights Reserved. Coldwell Banker Realty fully supports the principles of the Fair Housing Act and the Equal Opportunity Act. Owned by a subsidiary of NRT LLC. Coldwell Banker and the Coldwell Banker Logo are registered service marks owned by Coldwell Banker Real Estate LLC.<br />\n&nbsp\;
LOCATION:Via Facebook Live: https://www.facebook.com/SCHomeResourceCenter
UID:e.1333.3726
SEQUENCE:3
DTSTAMP:20260422T082747Z
URL:https://business.greaterirmochamber.com/events/details/seminar-mortgage-forbearance-options-3726
END:VEVENT

END:VCALENDAR
