BEGIN:VCALENDAR
VERSION:2.0
PRODID:-//ChamberMaster//Event Calendar 2.0//EN
METHOD:PUBLISH
X-PUBLISHED-TTL:P3D
REFRESH-INTERVAL:P3D
CALSCALE:GREGORIAN
BEGIN:VEVENT
DTSTART:20200309T130000Z
DTEND:20200309T200000Z
X-MICROSOFT-CDO-ALLDAYEVENT:FALSE
SUMMARY:Senior Community Health Screening
DESCRIPTION:Hope Lutheran Church is hosting Life Line Screening\, the nation's leading provider of preventive health screenings on Monday\, March 9\, 2020. The screenings offer a 5 test package to thoroughly check you for risk of stroke\, cardiovascular disease and other chronic conditions. The combination of these tests help detect problems   before you have symptoms and while your doctor can still take action   so you can keep doing the things you love. Call today to register! 800-690-0323
X-ALT-DESC;FMTTYPE=text/html:Hope Lutheran Church is hosting Life Line Screening\, the nation&rsquo\;s leading provider of preventive health screenings on Monday\, March 9\, 2020. The screenings offer a 5 test package to thoroughly check you for risk of stroke\, cardiovascular disease and other chronic conditions. The combination of these tests help detect problems &ndash\; before you have symptoms and while your doctor can still take action &hellip\; so you can keep doing the things you love. Call today to register! 800-690-0323
LOCATION:Hope Lutheran Church 1400 Kennerly Rd\, Irmo\, South Carolina 29063
UID:e.1333.3672
SEQUENCE:3
DTSTAMP:20260422T100312Z
URL:https://business.greaterirmochamber.com/events/details/senior-community-health-screening-3672
END:VEVENT

END:VCALENDAR
