BEGIN:VCALENDAR
VERSION:2.0
PRODID:-//ChamberMaster//Event Calendar 2.0//EN
METHOD:PUBLISH
X-PUBLISHED-TTL:P3D
REFRESH-INTERVAL:P3D
CALSCALE:GREGORIAN
BEGIN:VEVENT
DTSTART:20170208T180000Z
DTEND:20170208T210000Z
X-MICROSOFT-CDO-ALLDAYEVENT:FALSE
SUMMARY:Senior Job Fair
DESCRIPTION:The Irmo Branch Library will be hosting a Senior Job Fair on Wednesday\, February 8\, 2017 from 1 pm - 4 pm.  Adults aged 55 and older\, who are looking for both full and part-time positions\, will be on hand to meet with your business.  This is a great opportunity for your business to meet with individuals who have years of knowledge and experience and are ready to go to work.  There is no charge to exhibit your company\, but spaces are limited.  Please contact Mary Gwyn of the Irmo Branch Library at 803.798.7880 to reserve your spot today.
X-ALT-DESC;FMTTYPE=text/html:<b style="color: rgb(0\, 0\, 0)\; font-family: 'Times New Roman'\, serif\; font-size: 16px\;"><i>The Irmo Branch Library will be hosting a Senior Job Fair on Wednesday\, February 8\, 2017 from 1 pm - 4 pm.&nbsp\; Adults aged 55 and older\, who are looking for both full and part-time positions\, will be on hand to meet with your business.&nbsp\; This is a great opportunity for your business to meet with individuals who have years of knowledge and experience and are ready to go to work.&nbsp\; There is no charge to exhibit your company\, but spaces are limited.&nbsp\; Please contact Mary Gwyn of the Irmo Branch Library at 803.798.7880 to reserve your spot today.</i></b>
LOCATION:
UID:e.1333.2506
SEQUENCE:3
DTSTAMP:20260424T184249Z
URL:https://business.greaterirmochamber.com/events/details/senior-job-fair-2506
END:VEVENT

END:VCALENDAR
