BEGIN:VCALENDAR
VERSION:2.0
PRODID:-//ChamberMaster//Event Calendar 2.0//EN
METHOD:PUBLISH
X-PUBLISHED-TTL:P3D
REFRESH-INTERVAL:P3D
CALSCALE:GREGORIAN
BEGIN:VEVENT
DTSTART:20160914T153000Z
DTEND:20160914T170000Z
X-MICROSOFT-CDO-ALLDAYEVENT:FALSE
SUMMARY:September 2016 Chamber Luncheon
DESCRIPTION:Join us for our September Luncheon sponsored by Irmo Insurance Agency.  Carrabba's will provide a delicious meal and Ted Pitts\, President of the SC State Chamber will bring his Grassroots Tour to Irmo.  Ted is looking for feedback from local business so he can prepare the 2017 Competitiveness Agenda.  Please make plans to attend this important meeting and let your voice be heard!
X-ALT-DESC;FMTTYPE=text/html:<span style="font-size:18px\;"><span style="line-height: 20.7999992370605px\;">Join us for our September Luncheon sponsored by Irmo Insurance Agency. &nbsp\;Carrabba&#39\;s will provide a delicious meal and Ted Pitts\, President of the SC State Chamber will bring his Grassroots Tour to Irmo. &nbsp\;Ted is looking for feedback from local business so he can prepare the 2017 Competitiveness Agenda. &nbsp\;Please make plans to attend this important meeting and let your voice be heard!</span></span><br />\n<br />\n&nbsp\;
LOCATION:Saint Andrews Presbyterian Church 6952 Saint Andrews Road Columbia\, SC 29212
UID:e.1333.2475
SEQUENCE:3
DTSTAMP:20260425T020348Z
URL:https://business.greaterirmochamber.com/events/details/september-2016-chamber-luncheon-2475
END:VEVENT

END:VCALENDAR
