BEGIN:VCALENDAR
VERSION:2.0
PRODID:-//ChamberMaster//Event Calendar 2.0//EN
METHOD:PUBLISH
X-PUBLISHED-TTL:P3D
REFRESH-INTERVAL:P3D
CALSCALE:GREGORIAN
BEGIN:VEVENT
DTSTART:20170907T113000Z
DTEND:20170907T123000Z
X-MICROSOFT-CDO-ALLDAYEVENT:FALSE
SUMMARY:September 2017 Chamber Breakfast
DESCRIPTION:Please join us for a great morning of networking and fellowship!  The September Chamber Breakfast will be sponsored by one of our newest Chamber Members:  Total Comfort Solutions!
X-ALT-DESC;FMTTYPE=text/html:Please join us for a great morning of networking and fellowship! &nbsp\;The September Chamber Breakfast will be sponsored by one of our newest Chamber Members: &nbsp\;<strong>Total Comfort Solutions</strong>!
LOCATION:Greater Irmo Chamber of Commerce 1235 Columbia Ave. Irmo\, SC 29063
UID:e.1333.2887
SEQUENCE:3
DTSTAMP:20260424T094920Z
URL:https://business.greaterirmochamber.com/events/details/september-2017-chamber-breakfast-2887
END:VEVENT

END:VCALENDAR
