BEGIN:VCALENDAR
VERSION:2.0
PRODID:-//ChamberMaster//Event Calendar 2.0//EN
METHOD:PUBLISH
X-PUBLISHED-TTL:P3D
REFRESH-INTERVAL:P3D
CALSCALE:GREGORIAN
BEGIN:VEVENT
DTSTART:20170913T153000Z
DTEND:20170913T170000Z
X-MICROSOFT-CDO-ALLDAYEVENT:FALSE
SUMMARY:September 2017 Chamber Luncheon
DESCRIPTION:Please join us for our September Chamber Luncheon on Wednesday\, September 13th\, sponsored by Woodforest National Bank!  Our caterer will be Carrabba's Italian Grill!\n\n\n\nOur speaker will be Pete Oliver with Retail Data Point.  His presentation will focus on demographics in the Irmo area and how to use them to grow your business.  Great information and we hope you'll join us for this fun hour of networking and learning!
X-ALT-DESC;FMTTYPE=text/html:<span style="font-family:tahoma\;"><span style="font-size:14px\;">Please join us for our <strong>September Chamber Luncheon</strong> on <strong>Wednesday\, September 13th\,</strong> sponsored by <strong>Woodforest National Bank</strong>! &nbsp\;Our caterer&nbsp\;will be Carrabba&#39\;s&nbsp\;Italian Grill!<br />\n<br />\nOur speaker will be <strong>Pete Oliver</strong> with&nbsp\;<strong>Retail Data Point</strong>. &nbsp\;His presentation will focus on demographics in the Irmo area and how to use them to grow your business. &nbsp\;Great information and we hope you&#39\;ll join us for this fun hour of networking and learning!</span></span><br />\n<br />\n<br />\n<br />\n&nbsp\;
LOCATION:St. Andrew's Presbyterian Church 6952 St. Andrew's Rd. Columbia\, SC 29212
UID:e.1333.2888
SEQUENCE:3
DTSTAMP:20260424T082054Z
URL:https://business.greaterirmochamber.com/events/details/september-2017-chamber-luncheon-2888
END:VEVENT

END:VCALENDAR
