BEGIN:VCALENDAR
VERSION:2.0
PRODID:-//ChamberMaster//Event Calendar 2.0//EN
METHOD:PUBLISH
X-PUBLISHED-TTL:P3D
REFRESH-INTERVAL:P3D
CALSCALE:GREGORIAN
BEGIN:VEVENT
DTSTART:20180906T120000Z
DTEND:20180906T130000Z
X-MICROSOFT-CDO-ALLDAYEVENT:FALSE
SUMMARY:September 2018 Chamber Breakfast
DESCRIPTION:Please join us for a morning of networking at fellowship at our Monthly Breakfast.  Special thanks to Lee & Susan Adams with NeoLife for sponsoring this event!
X-ALT-DESC;FMTTYPE=text/html:Please join us for a morning of networking at fellowship at our Monthly Breakfast. &nbsp\;Special thanks to <strong>Lee &amp\; Susan Adams</strong> with <strong>NeoLife</strong> for sponsoring this event!
LOCATION:Greater Irmo Chamber 1235 Columbia Ave. Irmo\, SC 29063
UID:e.1333.3249
SEQUENCE:3
DTSTAMP:20260423T145519Z
URL:https://business.greaterirmochamber.com/events/details/september-2018-chamber-breakfast-3249
END:VEVENT

END:VCALENDAR
