BEGIN:VCALENDAR
VERSION:2.0
PRODID:-//ChamberMaster//Event Calendar 2.0//EN
METHOD:PUBLISH
X-PUBLISHED-TTL:P3D
REFRESH-INTERVAL:P3D
CALSCALE:GREGORIAN
BEGIN:VEVENT
DTSTART:20180912T153000Z
DTEND:20180912T170000Z
X-MICROSOFT-CDO-ALLDAYEVENT:FALSE
SUMMARY:September 2018 Chamber Luncheon
DESCRIPTION:Please join us for our September Chamber Luncheon on Wednesday\, September 12\, 2018 from 11:30am-1pm at St. Andrews Presbyterian Church.  This month\, we will welcome Bryan Stirling\, Director of the SC Department of Corrections.  Special thanks to the team at Columbia Metropolitan Airport for sponsoring this event.
X-ALT-DESC;FMTTYPE=text/html:<span style="font-family: arial\;">Please join us for our <strong>September</strong></span><strong style="font-family: arial\;">&nbsp\;Chamber Luncheon</strong><span style="font-family: arial\;">&nbsp\;on&nbsp\;</span><strong style="font-family: arial\;">Wednesday\, September 12\, 2018</strong><span style="font-family: arial\;">&nbsp\;from&nbsp\;</span><strong style="font-family: arial\;">11:30am-1pm</strong><span style="font-family: arial\;">&nbsp\;at&nbsp\;</span><strong style="font-family: arial\;">St. Andrews Presbyterian Church</strong><span style="font-family: arial\;">. &nbsp\;This month\, we will welcome</span><font face="arial">&nbsp\;<strong>Bryan Stirling</strong>\, <strong>Director of the SC Department of Corrections</strong>.&nbsp\; Special thanks to the team at <strong>Columbia Metropolitan Airport</strong> for sponsoring this event. &nbsp\;&nbsp\;</font>
LOCATION:St. Andrews Presbyterian Church 6952 St. Andrews Rd. Columbia\, SC 29212
UID:e.1333.3254
SEQUENCE:3
DTSTAMP:20260423T132510Z
URL:https://business.greaterirmochamber.com/events/details/september-2018-chamber-luncheon-3254
END:VEVENT

END:VCALENDAR
