BEGIN:VCALENDAR
VERSION:2.0
PRODID:-//ChamberMaster//Event Calendar 2.0//EN
METHOD:PUBLISH
X-PUBLISHED-TTL:P3D
REFRESH-INTERVAL:P3D
CALSCALE:GREGORIAN
BEGIN:VEVENT
DTSTART:20190911T153000Z
DTEND:20190911T170000Z
X-MICROSOFT-CDO-ALLDAYEVENT:FALSE
SUMMARY:September 2019 Chamber Luncheon
DESCRIPTION:Please join us for our September Chamber Luncheon on Wednesday\, September 11\, 2019 from 11:30am-1pm at St. Andrews Presbyterian Church.   This month\, we will welcome Kim Stenson\, Director of the South Carolina Emergency Management Division. We're right in the midst of hurricane season and Mr. Stenson will have some interesting information about being prepared.  A big thank you to our partners at Shaw Industries for sponsoring this event and we are pleased to announce that Texas Roadhouse will be catering!
X-ALT-DESC;FMTTYPE=text/html:<span style="font-family: arial\;">Please join us for our <strong>September</strong></span><strong style="font-family: arial\;">&nbsp\;Chamber Luncheon</strong><span style="font-family: arial\;">&nbsp\;on&nbsp\;</span><strong style="font-family: arial\;">Wednesday\, September 11\, 2019</strong><span style="font-family: arial\;">&nbsp\;from&nbsp\;</span><strong style="font-family: arial\;">11:30am-1pm</strong><span style="font-family: arial\;">&nbsp\;at&nbsp\;</span><strong style="font-family: arial\;">St. Andrews Presbyterian Church</strong><span style="font-family: arial\;">. &nbsp\;</span><font face="arial">&nbsp\;This month\, we will welcome <strong>Kim Stenson\, Director of the South Carolina Emergency Management&nbsp\;</strong><b>Division.</b>&nbsp\;We&#39\;re right in the&nbsp\;midst of&nbsp\;hurricane season and Mr. Stenson will have some interesting information about being prepared. &nbsp\;A big thank you to our partners at <strong>Shaw Industries&nbsp\;</strong>for sponsoring this event and we are pleased to announce that <strong>Texas Roadhouse</strong> will be catering! &nbsp\;</font>
LOCATION:St. Andrews Presbyterian Church 6952 St. Andrews Rd. Columbia\, SC 29212
UID:e.1333.3361
SEQUENCE:3
DTSTAMP:20260422T203840Z
URL:https://business.greaterirmochamber.com/events/details/september-2019-chamber-luncheon-3361
END:VEVENT

END:VCALENDAR
