BEGIN:VCALENDAR
VERSION:2.0
PRODID:-//ChamberMaster//Event Calendar 2.0//EN
METHOD:PUBLISH
X-PUBLISHED-TTL:P3D
REFRESH-INTERVAL:P3D
CALSCALE:GREGORIAN
BEGIN:VEVENT
DTSTART:20200915T210000Z
DTEND:20200915T230000Z
X-MICROSOFT-CDO-ALLDAYEVENT:FALSE
SUMMARY:September 2020 After Hours
DESCRIPTION:Join us for our September After Hours on Tuesday\, September 15\, 2020 from 5PM-7PM at the Irmo Chamber House.  We'll have some snacks and beverages out on the patio so we can practice appropriate social distancing.  Please wear your mask when not eating or drinking!  A BIG thank you to Rebecca Blackburn Hines with Hines for District 5 School Board for sponsoring this event for us!
X-ALT-DESC;FMTTYPE=text/html:<span style="font-size:16px\;"><span style="font-family:verdana\;">Join us for our <strong>September After Hours</strong> on <strong>Tuesday\, September 15\, 2020</strong> from <strong>5PM-7PM </strong>at the <strong>Irmo Chamber House</strong>. &nbsp\;We&#39\;ll have some snacks and beverages out on the patio so we can practice appropriate social distancing. &nbsp\;Please wear your mask when not eating or drinking! &nbsp\;A BIG thank you to <strong>Rebecca Blackburn Hines</strong> with <strong>Hines for District 5 School Board&nbsp\;</strong>for sponsoring this event for us!</span></span>
LOCATION:
UID:e.1333.3957
SEQUENCE:3
DTSTAMP:20260422T045443Z
URL:https://business.greaterirmochamber.com/events/details/september-2020-after-hours-3957
END:VEVENT

END:VCALENDAR
