BEGIN:VCALENDAR
VERSION:2.0
PRODID:-//ChamberMaster//Event Calendar 2.0//EN
METHOD:PUBLISH
X-PUBLISHED-TTL:P3D
REFRESH-INTERVAL:P3D
CALSCALE:GREGORIAN
BEGIN:VEVENT
DTSTART:20180925T200000Z
DTEND:20180925T223000Z
X-MICROSOFT-CDO-ALLDAYEVENT:FALSE
SUMMARY:September Chamber After Hours at Carrabba's Columbiana!
DESCRIPTION:Carrabba's Italian Grill\, one of our Emerald Partners\, will be hosting the Irmo Chamber for an After Hours on September 25\, 2018 from 4PM-6:30PM.  Come enjoy happy hour specials\, specialty cocktails and complimentary appetizers while you do some networking.  We'll also have door prizes so bring your business cards!
X-ALT-DESC;FMTTYPE=text/html:Carrabba&#39\;s Italian Grill\, one of our Emerald Partners\, will be hosting the Irmo Chamber for an After Hours on September 25\, 2018 from 4PM-6:30PM. &nbsp\;Come enjoy happy hour specials\, specialty cocktails and complimentary appetizers while you do some networking. &nbsp\;We&#39\;ll also have door prizes so bring your business cards!
LOCATION:Carrabbas Italian Grill 370 Columbiana Drive Columbia\, SC 29212
UID:e.1333.3257
SEQUENCE:3
DTSTAMP:20260423T132843Z
URL:https://business.greaterirmochamber.com/events/details/september-chamber-after-hours-at-carrabba-s-columbiana-3257
END:VEVENT

END:VCALENDAR
