BEGIN:VCALENDAR
VERSION:2.0
PRODID:-//ChamberMaster//Event Calendar 2.0//EN
METHOD:PUBLISH
X-PUBLISHED-TTL:P3D
REFRESH-INTERVAL:P3D
CALSCALE:GREGORIAN
BEGIN:VEVENT
DTSTART:20181119T163000Z
DTEND:20181119T173000Z
X-MICROSOFT-CDO-ALLDAYEVENT:FALSE
SUMMARY:Serenity Therapeutic Massage Ribbon Cutting
DESCRIPTION:Join us to welcome Serenity Therapeutic Massage to their new location!\n\nRibbon Cutting 11:45 a.m\n\nA light lunch will be provided!
X-ALT-DESC;FMTTYPE=text/html:Join us to welcome Serenity Therapeutic Massage to their new location!<br />\nRibbon Cutting 11:45 a.m<br />\nA light lunch will be provided!
LOCATION:1220 Bower Parkway\, Sola Studios\, #28 Columbia\, SC 29212
UID:e.1333.3280
SEQUENCE:3
DTSTAMP:20260423T104307Z
URL:https://business.greaterirmochamber.com/events/details/serenity-therapeutic-massage-ribbon-cutting-11-19-2018-3280
END:VEVENT

END:VCALENDAR
