BEGIN:VCALENDAR
VERSION:2.0
PRODID:-//ChamberMaster//Event Calendar 2.0//EN
METHOD:PUBLISH
X-PUBLISHED-TTL:P3D
REFRESH-INTERVAL:P3D
CALSCALE:GREGORIAN
BEGIN:VEVENT
DTSTART:20170606T153000Z
DTEND:20170606T163000Z
X-MICROSOFT-CDO-ALLDAYEVENT:FALSE
SUMMARY:Serenity Therapeutic Massage Ribbon Cutting
DESCRIPTION:Join us to welcome Serenity Therapeutic Massage to our Chamber!\n\nRibbon Cutting at 11:45 a.m.\n\nLight Lunch Provided!
X-ALT-DESC;FMTTYPE=text/html:Join us to welcome Serenity Therapeutic Massage to our Chamber!<br />\nRibbon Cutting at 11:45 a.m.<br />\nLight Lunch Provided!
LOCATION:1648 St. Andrews Road Columbia\, SC 29212 (inside Stay Tuned Chiropractic)
UID:e.1333.2552
SEQUENCE:3
DTSTAMP:20260424T125307Z
URL:https://business.greaterirmochamber.com/events/details/serenity-therapeutic-massage-ribbon-cutting-2552
END:VEVENT

END:VCALENDAR
