BEGIN:VCALENDAR
VERSION:2.0
PRODID:-//ChamberMaster//Event Calendar 2.0//EN
METHOD:PUBLISH
X-PUBLISHED-TTL:P3D
REFRESH-INTERVAL:P3D
CALSCALE:GREGORIAN
BEGIN:VEVENT
DTSTART:20190909T130000Z
DTEND:20190909T210000Z
X-MICROSOFT-CDO-ALLDAYEVENT:FALSE
SUMMARY:Sharing God's Love Benefit Golf Tournament
DESCRIPTION:Sharing God's Love Benefit Golf Tournament!\n\nHere is your opportunity to play an important role in helping your neighbors in the Dutch For\, St. Andrews\, Irmo and Ballentine communities.
X-ALT-DESC;FMTTYPE=text/html:Sharing God&#39\;s Love Benefit Golf Tournament!<br />\nHere is your opportunity to play an important role in helping your neighbors in the Dutch For\, St. Andrews\, Irmo and Ballentine communities.
LOCATION:The Spur at Northwoods
UID:e.1333.3352
SEQUENCE:3
DTSTAMP:20260422T190254Z
URL:https://business.greaterirmochamber.com/events/details/sharing-god-s-love-benefit-golf-tournament-3352
END:VEVENT

END:VCALENDAR
