BEGIN:VCALENDAR
VERSION:2.0
PRODID:-//ChamberMaster//Event Calendar 2.0//EN
METHOD:PUBLISH
X-PUBLISHED-TTL:P3D
REFRESH-INTERVAL:P3D
CALSCALE:GREGORIAN
BEGIN:VEVENT
DTSTART:20161001T120000Z
DTEND:20161001T170000Z
X-MICROSOFT-CDO-ALLDAYEVENT:FALSE
SUMMARY:Sharing God's Love Fall Yard Sale
DESCRIPTION:Sharing God's Love\, our local crisis ministry\, will be having it's annual Fall yard sale on Saturday\, Oct. 1\, 2016 from 8am-1pm. All proceeds directly benefit our clients/families who have emergency needs such as food and clothing.
X-ALT-DESC;FMTTYPE=text/html:Sharing God's Love\, our local crisis ministry\, will be having it's annual Fall yard sale on Saturday\, Oct. 1\, 2016 from 8am-1pm. All proceeds directly benefit our clients/families who have emergency needs such as food and clothing.
LOCATION:147 Friarsgate Blvd.\, Irmo\, SC 29063
UID:e.1333.2480
SEQUENCE:3
DTSTAMP:20260425T014821Z
URL:https://business.greaterirmochamber.com/events/details/sharing-god-s-love-fall-yard-sale-2480
END:VEVENT

END:VCALENDAR
