BEGIN:VCALENDAR
VERSION:2.0
PRODID:-//ChamberMaster//Event Calendar 2.0//EN
METHOD:PUBLISH
X-PUBLISHED-TTL:P3D
REFRESH-INTERVAL:P3D
CALSCALE:GREGORIAN
BEGIN:VEVENT
DTSTART;VALUE=DATE:20160912
DTEND;VALUE=DATE:20160913
TRANSP:TRANSPARENT
X-MICROSOFT-CDO-ALLDAYEVENT:TRUE
SUMMARY:Sharing God's Love Golf Tournament
DESCRIPTION:Sharing God's Love Benefit Golf Tournament
X-ALT-DESC;FMTTYPE=text/html:Sharing God&#39\;s Love Benefit Golf Tournament
LOCATION:The Spur at Northwoods. 201 Powell Road\, Columbia 29203
UID:e.1333.2465
SEQUENCE:3
DTSTAMP:20260425T020529Z
URL:https://business.greaterirmochamber.com/events/details/sharing-god-s-love-golf-tournament-09-12-2016-2465
END:VEVENT

END:VCALENDAR
