BEGIN:VCALENDAR
VERSION:2.0
PRODID:-//ChamberMaster//Event Calendar 2.0//EN
METHOD:PUBLISH
X-PUBLISHED-TTL:P3D
REFRESH-INTERVAL:P3D
CALSCALE:GREGORIAN
BEGIN:VEVENT
DTSTART:20180414T120000Z
DTEND:20180414T170000Z
X-MICROSOFT-CDO-ALLDAYEVENT:FALSE
SUMMARY:Sharing God's Love Spring Yard Sale
DESCRIPTION:Come shop our treasures at our annual Spring Yard Sale on Saturday\, April 14th from 8am-1pm\, RAIN OR SHINE.\n\nLocated at our ministry facility at 147 Friarsgate Blvd\, Irmo\, SC. All proceeds benefit the local families we serve through our ministry. We always have the biggest selection of everyday jewelry and purses around\, including some\n\nvery nice brand names!
X-ALT-DESC;FMTTYPE=text/html:Come shop our treasures at our annual Spring Yard Sale on Saturday\, April 14th from 8am-1pm\, RAIN OR SHINE.<br />\nLocated at our ministry facility at 147 Friarsgate Blvd\, Irmo\, SC. All proceeds benefit the local families we serve through our ministry. We always have the biggest selection of everyday jewelry and purses around\, including some<br />\nvery nice brand names!<br />\n&nbsp\;
LOCATION:147 Friarsgate Blvd\, Irmo\, SC 29063
UID:e.1333.2989
SEQUENCE:3
DTSTAMP:20260423T211024Z
URL:https://business.greaterirmochamber.com/events/details/sharing-god-s-love-spring-yard-sale-2989
END:VEVENT

END:VCALENDAR
