BEGIN:VCALENDAR
VERSION:2.0
PRODID:-//ChamberMaster//Event Calendar 2.0//EN
METHOD:PUBLISH
X-PUBLISHED-TTL:P3D
REFRESH-INTERVAL:P3D
CALSCALE:GREGORIAN
BEGIN:VEVENT
DTSTART:20240506T130000Z
DTEND:20240506T220000Z
X-MICROSOFT-CDO-ALLDAYEVENT:FALSE
SUMMARY:Simple Plan Columbia- Grand Opening
DESCRIPTION:Simple Plan Columbia is having Grand Opening Events on Monday May 6th from 9 am to 6 pm at both area locations:\n\n4508 St. Andrews Rd. Ste. E\, Columbia\, SC\n\n955. E. Main St.\, Ste E\, Lexington\, SC\n\n1st 25 Customers will receive a Free Gift\n\nGrab Bags and Discounts available to ALL CUSTOMERS. Along with a variety of Grab n Go Meals\, healthy Snacks\, Drinks and Supplements.\n\nSee You There!!!
X-ALT-DESC;FMTTYPE=text/html:<p align="center" style="color: rgb(34\, 34\, 34)\; font-family: Arial\, Helvetica\, sans-serif\; font-size: small\; margin-right: 0in\; margin-bottom: 15pt\; margin-left: 0in\; text-align: center\;"><span style="font-size:14px\;"><span style="font-family:verdana\;"><span style="color: black\;">Simple Plan Columbia is having Grand Opening Events on Monday May 6th from 9 am to 6 pm at both area locations:</span></span></span></p>\n\n<p align="center" style="color: rgb(34\, 34\, 34)\; font-family: Arial\, Helvetica\, sans-serif\; font-size: small\; margin-right: 0in\; margin-bottom: 15pt\; margin-left: 0in\; text-align: center\;"><span style="font-size:14px\;"><span style="font-family:verdana\;"><span style="color: black\;">4508 St. Andrews Rd. Ste. E\, Columbia\, SC</span></span></span></p>\n\n<p align="center" style="color: rgb(34\, 34\, 34)\; font-family: Arial\, Helvetica\, sans-serif\; font-size: small\; margin-right: 0in\; margin-bottom: 15pt\; margin-left: 0in\; text-align: center\;"><span style="font-size:14px\;"><span style="font-family:verdana\;"><span style="color: black\;">955. E. Main St.\, Ste E\, Lexington\, SC</span></span></span></p>\n\n<p align="center" style="color: rgb(34\, 34\, 34)\; font-family: Arial\, Helvetica\, sans-serif\; font-size: small\; margin-right: 0in\; margin-bottom: 15pt\; margin-left: 0in\; text-align: center\;"><span style="font-size:14px\;"><span style="font-family:verdana\;"><span style="color: black\;">1st 25 Customers will receive a Free Gift</span></span></span></p>\n\n<p align="center" style="color: rgb(34\, 34\, 34)\; font-family: Arial\, Helvetica\, sans-serif\; font-size: small\; margin-right: 0in\; margin-bottom: 15pt\; margin-left: 0in\; text-align: center\;"><span style="font-size:14px\;"><span style="font-family:verdana\;"><span style="color: black\;">Grab Bags and Discounts available to ALL CUSTOMERS. Along with a variety of Grab n Go Meals\, healthy Snacks\, Drinks and Supplements.</span></span></span></p>\n\n<p align="center" style="color: rgb(34\, 34\, 34)\; font-family: Arial\, Helvetica\, sans-serif\; font-size: small\; margin: 0in\; text-align: center\;"><span style="font-size:14px\;"><span style="font-family:verdana\;"><span style="color: black\;">See You There!!!</span></span></span></p>\n
LOCATION:4508 St. Andrews Rd. Ste. E\, Columbia\, SC 955. E. Main St.\, Ste E\, Lexington\, SC
UID:e.1333.5566
SEQUENCE:3
DTSTAMP:20260424T100725Z
URL:https://business.greaterirmochamber.com/events/details/simple-plan-columbia-grand-opening-5566
END:VEVENT

END:VCALENDAR
