BEGIN:VCALENDAR
VERSION:2.0
PRODID:-//ChamberMaster//Event Calendar 2.0//EN
METHOD:PUBLISH
X-PUBLISHED-TTL:P3D
REFRESH-INTERVAL:P3D
CALSCALE:GREGORIAN
BEGIN:VEVENT
DTSTART:20171219T203000Z
DTEND:20171219T223000Z
X-MICROSOFT-CDO-ALLDAYEVENT:FALSE
SUMMARY:Sip & Swirl
DESCRIPTION:You're cordially invited to join us at HarborChase as we celebrate the season with a Sip & Swirl! Meet our talented team and enjoy chef-prepared appetizers\, holiday beverages\, and "Holiday Karaoke!" It's the perfect opportunity to meet new friends\, build your professional network and experience the rich holiday traditions our residents are building here at HarborChase. We hope you'll join us for this festive holiday celebration!\n\nThe first five to RSVP will take home a free holiday gift!\n\nCall today! (803) 781-2243
X-ALT-DESC;FMTTYPE=text/html:<p>&nbsp\;</p>\n\n<p><span style="color:rgb(255\, 0\, 0)">You&rsquo\;re cordially invited to join us at HarborChase as we celebrate the season with a Sip &amp\; Swirl! Meet our talented team and enjoy chef-prepared appetizers\, holiday beverages\, and &quot\;Holiday Karaoke!&quot\; It&rsquo\;s the perfect opportunity to meet new friends\, build your professional network and experience the rich holiday traditions our residents are building here at HarborChase. We hope you&rsquo\;ll join us for this festive holiday celebration!</span><br />\n<strong><span style="color:rgb(255\, 0\, 0)">The first five to RSVP will take home a free holiday gift!<br />\nCall today! (803) 781-2243&nbsp\;</span></strong><br />\n&nbsp\;</p>\n
LOCATION:120 Fairforest Road\, Columbia\, SC 29212
UID:e.1333.2934
SEQUENCE:3
DTSTAMP:20260424T034214Z
URL:https://business.greaterirmochamber.com/events/details/sip-swirl-2934
END:VEVENT

END:VCALENDAR
